BEGIN:VCALENDAR
VERSION:2.0
PRODID:-//https://www.brunssum.nu///NONSGML kigkonsult.se iCalcreator 2.10.15//
METHOD:PUBLISH
BEGIN:VEVENT
UID:20260422T063029CEST-8604I1RMsJ@https://www.brunssum.nu/
DTSTAMP:20260422T043029Z
DESCRIPTION:Zet in je agenda: theatervoorstelling 10 jaar Boyzz from la Cho
 uffe is gepland op zaterdag 11 en 18 april 2026!Tijdens deze voorstelling 
 krijgen jullie een terugblik van het afgelopen decenium. Wat is allemaal b
 innen deze groep gebeurt? Hoe is de groep ontstaan? Hoe is de groep uitgeb
 reid? Wat hebben ze meegemaakt?De Boyzz staan reeds 10 jaar bekend om alle
 en datgene te doen wat ze zelf leuk vinden.\nBron https://www.brunssum.nu/
 kalender/evenement/4443-boyzz-from-la-chouffe
DTSTART:20260418T190000Z
DTEND:20260418T235900Z
LOCATION: Brunssum ( Brunssum)
SUMMARY:Boyzz from La Chouffe
URL:https://www.brunssum.nu/kalender/evenement/4443-boyzz-from-la-chouffe
END:VEVENT
BEGIN:VEVENT
UID:20260422T063029CEST-8608sTWVI4@https://www.brunssum.nu/
DTSTAMP:20260422T043029Z
DESCRIPTION: https://www.brunssum.nu/kalender/evenement/4495-reuenie-sjutte
 rie-2026
DTSTART:20260418T193000Z
DTEND:20260418T235900Z
LOCATION:Café-zaal Schobben (Rumpenerstraat 12\, 6443 CD Brunssum)
SUMMARY: Reünie sjutterie 2026
URL:https://www.brunssum.nu/kalender/evenement/4495-reuenie-sjutterie-2026
END:VEVENT
BEGIN:VEVENT
UID:20260422T063029CEST-8610DKhmMc@https://www.brunssum.nu/
DTSTAMP:20260422T043029Z
DESCRIPTION:18 april komt Ralph de Jongh naar Brunssum&nbsp\;Live vanaf 21:
 00 bij Grand cafe Fratelli\, entree vrij!!!\nMulti instrumentalist Ralph d
 e Jongh (gitaar/piano/zang/mondharp/percussion) is zowel filosoof als ook 
 bluesartiest. In 2004 werd hij ontdekt door Harry Muskee die hem gelijk 2 
 jaar mee nam op zijn theatertournee. Hij schrijft zijn eigen werk maar spe
 elt en zingt ook nummers van o.a. Muddy Waters en The Rolling Stones.Ralph
  de Jongh houdt van improvisatie en speelt vanuit zijn hart. Verwacht een 
 zeer gepassioneerde\, gedreven show van deze zingende en spelende filosoof
  die streeft naar vrijheid. Vrijheid in de muziek en vrijheid in zijn. Wat
  het beleven van Ralph ook zeker de moeite waard maakt\, is dat hij zijn b
 ezielde spel percussief begeleid met zijn klompen (zijn trademark). Zijn p
 uike stemgeluid kent nogal wat gelijkenissen met die van Mick Jagger. Dat 
 komt goed van pas als hij jullie enkele Stones nummers voor schotelt\nBron
  https://www.brunssum.nu/kalender/evenement/4512-bluesnight-met-ralph-de-j
 ongh-solo
DTSTART:20260418T210000Z
DTEND:20260418T235900Z
LOCATION:Grand café Fratelli ( Kerkstraat 274  6441 BL)
SUMMARY:Bluesnight met Ralph de Jongh (solo)
URL:https://www.brunssum.nu/kalender/evenement/4512-bluesnight-met-ralph-de
 -jongh-solo
END:VEVENT
END:VCALENDAR
