BEGIN:VCALENDAR
VERSION:2.0
PRODID:-//https://www.brunssum.nu///NONSGML kigkonsult.se iCalcreator 2.10.15//
METHOD:PUBLISH
BEGIN:VEVENT
UID:20260424T232307CEST-47620rfvS9@https://www.brunssum.nu/
DTSTAMP:20260424T212307Z
DESCRIPTION:In de weken voor kerst verandert het centrum van Brunssum in ee
 n sfeervol Christmas Village! Van 13 t/m 22 december zijn er volop activit
 eiten en animaties voor jong en oud.De magische week start met het spectac
 ulaire Turn on the lights. Met één druk op de knop verandert het centrum i
 n een sprankelend winterwonderland\, met duizenden lichtjes die Brunssum i
 n warme kerstglans hullen. Een live DJ\, feestelijke muziek en een zee van
  twinkelende lichtjes zorgen voor de ultieme kerstsfeer.Kom langs en ervaa
 r zelf de magie van Christmas Village!Want\, Magie bestaat!&nbsp\;Bron\n𝗢𝗻
 𝘁𝗺𝗼𝗲𝘁 𝗱𝗲 𝗸𝗲𝗿𝘀𝘁𝗺𝗮𝗻&nbsp\;Bron\n&nbsp\;\n https://www.brunssum.nu/evenemente
 n/evenement/4256-christmas-village-brunssum
DTSTART:20241213T130000Z
DTEND:20241222T170000Z
LOCATION: Brunssum ( Brunssum)
SUMMARY:Christmas Village Brunssum
URL:https://www.brunssum.nu/evenementen/evenement/4256-christmas-village-br
 unssum
END:VEVENT
END:VCALENDAR
